BEGIN:VCALENDAR
VERSION:2.0
PRODID:-//The Birmingham Jewish Federation - ECPv6.15.20//NONSGML v1.0//EN
CALSCALE:GREGORIAN
METHOD:PUBLISH
X-ORIGINAL-URL:https://bjf.org
X-WR-CALDESC:Events for The Birmingham Jewish Federation
REFRESH-INTERVAL;VALUE=DURATION:PT1H
X-Robots-Tag:noindex
X-PUBLISHED-TTL:PT1H
BEGIN:VTIMEZONE
TZID:America/Chicago
BEGIN:DAYLIGHT
TZOFFSETFROM:-0600
TZOFFSETTO:-0500
TZNAME:CDT
DTSTART:20250309T080000
END:DAYLIGHT
BEGIN:STANDARD
TZOFFSETFROM:-0500
TZOFFSETTO:-0600
TZNAME:CST
DTSTART:20251102T070000
END:STANDARD
BEGIN:DAYLIGHT
TZOFFSETFROM:-0600
TZOFFSETTO:-0500
TZNAME:CDT
DTSTART:20260308T080000
END:DAYLIGHT
BEGIN:STANDARD
TZOFFSETFROM:-0500
TZOFFSETTO:-0600
TZNAME:CST
DTSTART:20261101T070000
END:STANDARD
BEGIN:DAYLIGHT
TZOFFSETFROM:-0600
TZOFFSETTO:-0500
TZNAME:CDT
DTSTART:20270314T080000
END:DAYLIGHT
BEGIN:STANDARD
TZOFFSETFROM:-0500
TZOFFSETTO:-0600
TZNAME:CST
DTSTART:20271107T070000
END:STANDARD
END:VTIMEZONE
BEGIN:VEVENT
DTSTART;TZID=America/Chicago:20260316T100000
DTEND;TZID=America/Chicago:20260316T140000
DTSTAMP:20260422T063414
CREATED:20260210T170309Z
LAST-MODIFIED:20260210T170309Z
UID:10010593-1773655200-1773669600@bjf.org
SUMMARY:CJFS CARES Respite Program
DESCRIPTION:Providing group respite care for people living with memory and/or movement disorders while giving caregivers a much-needed break. Click here for more information. \n 
URL:https://bjf.org/event/cjfs-cares-respite-program/2026-03-16/
LOCATION:CARES Building\, 3794 Crosshaven Drive\, Birmingham\, AL\, 35243\, United States
ATTACH;FMTTYPE=image/jpeg:https://bjf.org/wp-content/uploads/2026/02/CARES-Flyer-Nov-2025-FINAL.jpg
ORGANIZER;CN="Collat Jewish Family Services":MAILTO:jfs@cjfsbham.org
GEO:33.4672906;-86.7315423
X-APPLE-STRUCTURED-LOCATION;VALUE=URI;X-ADDRESS=CARES Building 3794 Crosshaven Drive Birmingham AL 35243 United States;X-APPLE-RADIUS=500;X-TITLE=3794 Crosshaven Drive:geo:-86.7315423,33.4672906
END:VEVENT
BEGIN:VEVENT
DTSTART;TZID=America/Chicago:20260316T150000
DTEND;TZID=America/Chicago:20260316T160000
DTSTAMP:20260422T063414
CREATED:20260210T170215Z
LAST-MODIFIED:20260210T170215Z
UID:10011622-1773673200-1773676800@bjf.org
SUMMARY:CJFS Caregiver Support Group
DESCRIPTION:Held virtually to accommodate your demanding role\, our groups create community and provide emotional support while offering guidance and strategies to cope with stress\, manage difficult behaviors\, and prioritize self-care. Click here for more information.
URL:https://bjf.org/event/cjfs-caregiver-support-group/2026-03-16/
LOCATION:virtual
ATTACH;FMTTYPE=image/jpeg:https://bjf.org/wp-content/uploads/2026/02/Dementia-Caregiver-Support-Group-with-QR-code-1.jpg
ORGANIZER;CN="Collat Jewish Family Services":MAILTO:jfs@cjfsbham.org
END:VEVENT
BEGIN:VEVENT
DTSTART;TZID=America/Chicago:20260316T180000
DTEND;TZID=America/Chicago:20260316T200000
DTSTAMP:20260422T063414
CREATED:20260204T143551Z
LAST-MODIFIED:20260204T143551Z
UID:10010569-1773684000-1773691200@bjf.org
SUMMARY:An evening of storytelling with Dara Kosberg and Rebecca Rothman
DESCRIPTION:Join us for a night of storytelling with Dara Kosberg and our very own\, Rebecca Rothman. \n  \n\n\n\n\n\nMore about Dara’s story\, “Homecoming:” Dara is on the adventure of her life studying art in Australia when she gets that call– her mom is dying\, and she has to come home. Suddenly\, their already difficult mother/daughter relationship becomes a lot more complicated. How do you make amends with a dead mom? What follows is a winding journey through the awkward\, painful\, unexpectedly hilarious process of finding yourself again after loss.\n\nMore about Rebecca’s story\, “Gifted:” We spend our lives trying to figure out exactly who we are. Some things we get from our families\, and some things are purely us\, right? Join comedian and storyteller Becca on a journey about a surprise gift that changed everything as she knew it. This is a hilarious and gripping adventure about growing up and the mysteries that we discover – and sometimes even solve – along the way.\n\n\n\n\n\n 
URL:https://bjf.org/event/an-evening-of-storytelling-with-dara-kosberg-and-rebecca-rothman/
LOCATION:Levite Jewish Community Center\, 3960 Monteclair Road\, Birmingham\, Alabama\, 35213\, United States
CATEGORIES:Events and Meetings
ORGANIZER;CN="Levite Jewish Community Center":MAILTO:membership@bhamjcc.org
GEO:33.511298;-86.7546009
X-APPLE-STRUCTURED-LOCATION;VALUE=URI;X-ADDRESS=Levite Jewish Community Center 3960 Monteclair Road Birmingham Alabama 35213 United States;X-APPLE-RADIUS=500;X-TITLE=3960 Monteclair Road:geo:-86.7546009,33.511298
END:VEVENT
BEGIN:VEVENT
DTSTART;TZID=America/Chicago:20260317T100000
DTEND;TZID=America/Chicago:20260317T140000
DTSTAMP:20260422T063414
CREATED:20260210T170309Z
LAST-MODIFIED:20260210T170309Z
UID:10010594-1773741600-1773756000@bjf.org
SUMMARY:CJFS CARES Respite Program
DESCRIPTION:Providing group respite care for people living with memory and/or movement disorders while giving caregivers a much-needed break. Click here for more information. \n 
URL:https://bjf.org/event/cjfs-cares-respite-program/2026-03-17/
LOCATION:CARES Building\, 3794 Crosshaven Drive\, Birmingham\, AL\, 35243\, United States
ATTACH;FMTTYPE=image/jpeg:https://bjf.org/wp-content/uploads/2026/02/CARES-Flyer-Nov-2025-FINAL.jpg
ORGANIZER;CN="Collat Jewish Family Services":MAILTO:jfs@cjfsbham.org
GEO:33.4672906;-86.7315423
X-APPLE-STRUCTURED-LOCATION;VALUE=URI;X-ADDRESS=CARES Building 3794 Crosshaven Drive Birmingham AL 35243 United States;X-APPLE-RADIUS=500;X-TITLE=3794 Crosshaven Drive:geo:-86.7315423,33.4672906
END:VEVENT
BEGIN:VEVENT
DTSTART;TZID=America/Chicago:20260317T173000
DTEND;TZID=America/Chicago:20260317T190000
DTSTAMP:20260422T063414
CREATED:20240111T193704Z
LAST-MODIFIED:20260211T172940Z
UID:10009222-1773768600-1773774000@bjf.org
SUMMARY:Temple Emanu-El Board Meeting
DESCRIPTION:Temple Emanu-El Board Meeting
URL:https://bjf.org/event/temple-emanu-el-board-meeting-2/2026-03-17/
LOCATION:Temple Emanu-El\, 2100 Highland Ave\, Birmingham\, AL\, 35205\, United States
ORGANIZER;CN="Temple Emanu-El":MAILTO:communications@ourtemple.org
GEO:33.5002558;-86.7936032
X-APPLE-STRUCTURED-LOCATION;VALUE=URI;X-ADDRESS=Temple Emanu-El 2100 Highland Ave Birmingham AL 35205 United States;X-APPLE-RADIUS=500;X-TITLE=2100 Highland Ave:geo:-86.7936032,33.5002558
END:VEVENT
BEGIN:VEVENT
DTSTART;TZID=America/Chicago:20260317T180000
DTEND;TZID=America/Chicago:20260317T210000
DTSTAMP:20260422T063414
CREATED:20251215T144448Z
LAST-MODIFIED:20251215T144448Z
UID:10010426-1773770400-1773781200@bjf.org
SUMMARY:AHEC Holocaust in Film Series: No Place on Earth
DESCRIPTION:The AHEC invites you to join us for the third screening of our 13th annual Holocaust in Film Series: Rescue\, Escape\, and Liberation\, sponsored by the Perlman Donor Advised Fund. On March 17\, at Sidewalk Film Center & Cinema\, we will screen the powerful and deeply moving documentary “No Place on Earth.” Based on the memoir of Holocaust survivor Esther Stermer\, this documentary tells the shocking story of three Jewish families—38 people in total—who escaped the Nazis and survived the Holocaust by hiding in a cave in Ukraine. Following the screening\, Michele Forman—a second-generation Survivor\, award-winning documentarian\, and UAB media studies professor—will lead a discussion about the film to deepen audience understanding of the extreme strength and sacrifices needed to escape the Nazi regime and survive the Holocaust\, as well as the role documentaries must play in preserving Holocaust memory.  \nTickets are $10 per person. Purchase your tickets today! 
URL:https://bjf.org/event/ahec-holocaust-in-film-series-no-place-on-earth/
LOCATION:Sidewalk Film Center & Cinema\, 1821 2nd Avenue North\, Birmingham\, 35203
CATEGORIES:Events and Meetings
END:VEVENT
BEGIN:VEVENT
DTSTART;TZID=America/Chicago:20260318T100000
DTEND;TZID=America/Chicago:20260318T140000
DTSTAMP:20260422T063414
CREATED:20260210T170309Z
LAST-MODIFIED:20260210T170309Z
UID:10010595-1773828000-1773842400@bjf.org
SUMMARY:CJFS CARES Respite Program
DESCRIPTION:Providing group respite care for people living with memory and/or movement disorders while giving caregivers a much-needed break. Click here for more information. \n 
URL:https://bjf.org/event/cjfs-cares-respite-program/2026-03-18/
LOCATION:CARES Building\, 3794 Crosshaven Drive\, Birmingham\, AL\, 35243\, United States
ATTACH;FMTTYPE=image/jpeg:https://bjf.org/wp-content/uploads/2026/02/CARES-Flyer-Nov-2025-FINAL.jpg
ORGANIZER;CN="Collat Jewish Family Services":MAILTO:jfs@cjfsbham.org
GEO:33.4672906;-86.7315423
X-APPLE-STRUCTURED-LOCATION;VALUE=URI;X-ADDRESS=CARES Building 3794 Crosshaven Drive Birmingham AL 35243 United States;X-APPLE-RADIUS=500;X-TITLE=3794 Crosshaven Drive:geo:-86.7315423,33.4672906
END:VEVENT
BEGIN:VEVENT
DTSTART;TZID=America/Chicago:20260318T120000
DTEND;TZID=America/Chicago:20260318T130000
DTSTAMP:20260422T063414
CREATED:20250626T133615Z
LAST-MODIFIED:20250626T133615Z
UID:10009926-1773835200-1773838800@bjf.org
SUMMARY:From Prophecy to Leading Jewishly - TEE
DESCRIPTION:The largest section of the TaNaKh\, our most central Jewish text\, is Nevi’im\, the Prophets. In the numerous books of this section\, we encounter the prophets of our tradition. The prophets in this text are passionate and moral people who desperately want to pass the word of God onto the Israelite people. The task of these figures is to be a compelling microphone of God\, and help the chosen people find the best way to live according to God’s laws. Each prophet strives to make the world a better place. In the course\, we will dive deeply into the Prophets\, learning how to apply the text to our modern lives as well as examining the text itself through a lens on the Hebrew and commentary.
URL:https://bjf.org/event/from-prophecy-to-leading-jewishly-tee/2026-03-18/
LOCATION:Temple Emanu-El\, 2100 Highland Ave\, Birmingham\, AL\, 35205\, United States
CATEGORIES:Education
ORGANIZER;CN="Temple Emanu-El":MAILTO:communications@ourtemple.org
GEO:33.5002558;-86.7936032
X-APPLE-STRUCTURED-LOCATION;VALUE=URI;X-ADDRESS=Temple Emanu-El 2100 Highland Ave Birmingham AL 35205 United States;X-APPLE-RADIUS=500;X-TITLE=2100 Highland Ave:geo:-86.7936032,33.5002558
END:VEVENT
BEGIN:VEVENT
DTSTART;TZID=America/Chicago:20260318T154500
DTEND;TZID=America/Chicago:20260318T171500
DTSTAMP:20260422T063414
CREATED:20250415T133804Z
LAST-MODIFIED:20250415T133804Z
UID:10009250-1773848700-1773854100@bjf.org
SUMMARY:Hebrew School
DESCRIPTION:4th\, 5th\, & 6th Grade Hebrew School
URL:https://bjf.org/event/hebrew-school/2026-03-18/
LOCATION:Temple Emanu-El\, 2100 Highland Ave\, Birmingham\, AL\, 35205\, United States
ORGANIZER;CN="Temple Emanu-El":MAILTO:communications@ourtemple.org
GEO:33.5002558;-86.7936032
X-APPLE-STRUCTURED-LOCATION;VALUE=URI;X-ADDRESS=Temple Emanu-El 2100 Highland Ave Birmingham AL 35205 United States;X-APPLE-RADIUS=500;X-TITLE=2100 Highland Ave:geo:-86.7936032,33.5002558
END:VEVENT
BEGIN:VEVENT
DTSTART;TZID=America/Chicago:20260318T170000
DTEND;TZID=America/Chicago:20260318T180000
DTSTAMP:20260422T063414
CREATED:20260407T205602Z
LAST-MODIFIED:20260407T205602Z
UID:10011921-1773853200-1773856800@bjf.org
SUMMARY:BJF Executive CommitteeMeeting
DESCRIPTION:
URL:https://bjf.org/event/bjf-executive-committeemeeting/2026-03-18/
LOCATION:Zoom
ORGANIZER;CN="Birmingham Jewish Federation":MAILTO:federation@bjf.org
END:VEVENT
BEGIN:VEVENT
DTSTART;TZID=America/Chicago:20260318T180000
DTEND;TZID=America/Chicago:20260318T191500
DTSTAMP:20260422T063414
CREATED:20251016T143609Z
LAST-MODIFIED:20260311T153738Z
UID:10010290-1773856800-1773861300@bjf.org
SUMMARY:CJFS\, TEE Sisterhood Host Panel on the "Sandwich Generation"
DESCRIPTION:A panel with CJFS will speak on navigating caregiving for children and parents for those adults in the “sandwich generation” for the community
URL:https://bjf.org/event/cjfs-tee-sisterhood-host-panel-on-the-sandwich-generation/
LOCATION:Temple Emanu-El\, 2100 Highland Ave\, Birmingham\, AL\, 35205\, United States
ATTACH;FMTTYPE=image/jpeg:https://bjf.org/wp-content/uploads/2025/10/Sandwich-Generation-Flyer-March-2026-2.jpg
GEO:33.5002558;-86.7936032
X-APPLE-STRUCTURED-LOCATION;VALUE=URI;X-ADDRESS=Temple Emanu-El 2100 Highland Ave Birmingham AL 35205 United States;X-APPLE-RADIUS=500;X-TITLE=2100 Highland Ave:geo:-86.7936032,33.5002558
END:VEVENT
BEGIN:VEVENT
DTSTART;TZID=America/Chicago:20260318T190000
DTEND;TZID=America/Chicago:20260318T203000
DTSTAMP:20260422T063414
CREATED:20250707T142532Z
LAST-MODIFIED:20260206T183935Z
UID:10010572-1773860400-1773865800@bjf.org
SUMMARY:Rosh Chodesh Village
DESCRIPTION:Please join Tammi Calwell-Horn and Dalia Abrams for the newest TBE Village: the Rosh Hodesh Circle\, based on materials published by At The Well (link to https://www.atthewellproject.com/). At each evening meeting we will explore the themes of the month through meditation\, crafting projects\, movement/dance\, torah study and food. No experience necessary. \nMeetings will be monthly\, on Rosh Hodesh (so days of the week will vary)\, at our homes. \nSo\, please join us for sisterly bonding through the Jewish wisdom of our ancestresses. All who identify as sisters are welcome.
URL:https://bjf.org/event/rosh-chodesh-village/2026-03-18/
LOCATION:TBD
ORGANIZER;CN="Temple Beth-El":MAILTO:sbutler@templebeth-el.net
GEO:33.5115363;-86.7539561
END:VEVENT
BEGIN:VEVENT
DTSTART;TZID=America/Chicago:20260319T100000
DTEND;TZID=America/Chicago:20260319T140000
DTSTAMP:20260422T063414
CREATED:20260210T170309Z
LAST-MODIFIED:20260210T170309Z
UID:10010596-1773914400-1773928800@bjf.org
SUMMARY:CJFS CARES Respite Program
DESCRIPTION:Providing group respite care for people living with memory and/or movement disorders while giving caregivers a much-needed break. Click here for more information. \n 
URL:https://bjf.org/event/cjfs-cares-respite-program/2026-03-19/
LOCATION:CARES Building\, 3794 Crosshaven Drive\, Birmingham\, AL\, 35243\, United States
ATTACH;FMTTYPE=image/jpeg:https://bjf.org/wp-content/uploads/2026/02/CARES-Flyer-Nov-2025-FINAL.jpg
ORGANIZER;CN="Collat Jewish Family Services":MAILTO:jfs@cjfsbham.org
GEO:33.4672906;-86.7315423
X-APPLE-STRUCTURED-LOCATION;VALUE=URI;X-ADDRESS=CARES Building 3794 Crosshaven Drive Birmingham AL 35243 United States;X-APPLE-RADIUS=500;X-TITLE=3794 Crosshaven Drive:geo:-86.7315423,33.4672906
END:VEVENT
BEGIN:VEVENT
DTSTART;TZID=America/Chicago:20260319T153000
DTEND;TZID=America/Chicago:20260319T163000
DTSTAMP:20260422T063414
CREATED:20260309T143016Z
LAST-MODIFIED:20260309T143016Z
UID:10011899-1773934200-1773937800@bjf.org
SUMMARY:Foundation Investment Committee Meeting
DESCRIPTION:Foundation Investment Committee Meeting
URL:https://bjf.org/event/foundation-investment-committee-meeting/
LOCATION:Birmingham Jewish Federation\, 3966 Montclair Rd\, Birmingham\, AL\, 35213\, United States
ORGANIZER;CN="Birmingham Jewish Foundation":MAILTO:sarahg@bjf.org
GEO:33.5221355;-86.7882994
X-APPLE-STRUCTURED-LOCATION;VALUE=URI;X-ADDRESS=Birmingham Jewish Federation 3966 Montclair Rd Birmingham AL 35213 United States;X-APPLE-RADIUS=500;X-TITLE=3966 Montclair Rd:geo:-86.7882994,33.5221355
END:VEVENT
BEGIN:VEVENT
DTSTART;TZID=America/Chicago:20260319T160000
DTEND;TZID=America/Chicago:20260319T173000
DTSTAMP:20260422T063414
CREATED:20251229T190803Z
LAST-MODIFIED:20251229T190803Z
UID:10010499-1773936000-1773941400@bjf.org
SUMMARY:LJCC Governing Board
DESCRIPTION:Meeting of the LJCC Governing Board
URL:https://bjf.org/event/ljcc-governing-board/2026-03-19/
LOCATION:LJCC Board Room
CATEGORIES:Events and Meetings
ORGANIZER;CN="Levite Jewish Community Center":MAILTO:membership@bhamjcc.org
END:VEVENT
BEGIN:VEVENT
DTSTART;TZID=America/Chicago:20260319T190000
DTEND;TZID=America/Chicago:20260319T210000
DTSTAMP:20260422T063414
CREATED:20240903T155141Z
LAST-MODIFIED:20250623T210142Z
UID:10009855-1773946800-1773954000@bjf.org
SUMMARY:Intro to Judaism
DESCRIPTION:For those interested in deepening their Jewish learning or converting to Judaism. \nClass will be in-person on Thursdays at Temple Beth El\, approx. two times each month. Begins August 7th 2025. \n$180/individual and $300/couples
URL:https://bjf.org/event/intro-to-judaism-3/2026-03-19/
LOCATION:Temple Beth-El\, 2179 Highland Avenue\, Birmingham\, AL\, 35205\, United States
CATEGORIES:Education
ATTACH;FMTTYPE=image/png:https://bjf.org/wp-content/uploads/2024/09/Intro-to-Judaism-flyer-5785-1.png
ORGANIZER;CN="Temple Beth-El":MAILTO:sbutler@templebeth-el.net
GEO:33.4997719;-86.7903719
X-APPLE-STRUCTURED-LOCATION;VALUE=URI;X-ADDRESS=Temple Beth-El 2179 Highland Avenue Birmingham AL 35205 United States;X-APPLE-RADIUS=500;X-TITLE=2179 Highland Avenue:geo:-86.7903719,33.4997719
END:VEVENT
BEGIN:VEVENT
DTSTART;TZID=America/Chicago:20260320T103000
DTEND;TZID=America/Chicago:20260320T123000
DTSTAMP:20260422T063414
CREATED:20260320T183616Z
LAST-MODIFIED:20260320T183616Z
UID:10011904-1774002600-1774009800@bjf.org
SUMMARY:Temple Beth-El Sisterhood Torah Fund Coffee
DESCRIPTION:Emmanuel Calef\, guest speaker; he will weave together a bit of his own path to rabbinical school\, a teaching connected to the Torah portion or the season\, and — most importantly — an honest expression of what it means to be supported by people like the women in your community. JTS has given me something I’ll forever be grateful for.
URL:https://bjf.org/event/temple-beth-el-sisterhood-torah-fund-coffee/
LOCATION:Temple Beth-El\, 2179 Highland Avenue\, Birmingham\, AL\, 35205\, United States
ATTACH;FMTTYPE=image/png:https://bjf.org/wp-content/uploads/2026/03/Torah-Fund-pin-2025.png
GEO:33.4997719;-86.7903719
X-APPLE-STRUCTURED-LOCATION;VALUE=URI;X-ADDRESS=Temple Beth-El 2179 Highland Avenue Birmingham AL 35205 United States;X-APPLE-RADIUS=500;X-TITLE=2179 Highland Avenue:geo:-86.7903719,33.4997719
END:VEVENT
BEGIN:VEVENT
DTSTART;TZID=America/Chicago:20260320T110000
DTEND;TZID=America/Chicago:20260320T130000
DTSTAMP:20260422T063414
CREATED:20260202T172732Z
LAST-MODIFIED:20260202T172732Z
UID:10010552-1774004400-1774011600@bjf.org
SUMMARY:CJFS-LJCC HOP daytime Shabbat service
DESCRIPTION:Join CJFS\, LJCC\, local clergy\, and community members to welcome Shabbat through a daytime multigenerational service and lunch. RSVP to caleigh@cjfsbham.org or 205-278-7101 to be included in lunch\, sponsored by the LJCC. Transportation volunteers needed\, please contact Caleigh.
URL:https://bjf.org/event/cjfs-ljcc-hop-daytime-shabbat-service-4/2026-03-20/
LOCATION:LJCC Senior Lounge\, 3960 Montclair Rd\, Birmingham\, AL\, 35213\, United States
ATTACH;FMTTYPE=image/jpeg:https://bjf.org/wp-content/uploads/2026/02/Honor-Our-Parents-2026-Schedule-as-of-2.2.26.jpg
ORGANIZER;CN="Collat Jewish Family Services":MAILTO:jfs@cjfsbham.org
GEO:33.511298;-86.7546009
X-APPLE-STRUCTURED-LOCATION;VALUE=URI;X-ADDRESS=LJCC Senior Lounge 3960 Montclair Rd Birmingham AL 35213 United States;X-APPLE-RADIUS=500;X-TITLE=3960 Montclair Rd:geo:-86.7546009,33.511298
END:VEVENT
BEGIN:VEVENT
DTSTART;TZID=America/Chicago:20260320T173000
DTEND;TZID=America/Chicago:20260320T193000
DTSTAMP:20260422T063414
CREATED:20250708T134406Z
LAST-MODIFIED:20250708T134406Z
UID:10010099-1774027800-1774035000@bjf.org
SUMMARY:Shabbat Dinner
DESCRIPTION:Shabbat Dinner
URL:https://bjf.org/event/shabbat-dinner-2/
LOCATION:Chabad of Alabama\, 3040 Overton Road\, Birmingham\, AL\, 35223\, United States
ORGANIZER;CN="Chabad of Alabama":MAILTO:office@chabadofalabama.com
GEO:33.4684369;-86.7395922
X-APPLE-STRUCTURED-LOCATION;VALUE=URI;X-ADDRESS=Chabad of Alabama 3040 Overton Road Birmingham AL 35223 United States;X-APPLE-RADIUS=500;X-TITLE=3040 Overton Road:geo:-86.7395922,33.4684369
END:VEVENT
BEGIN:VEVENT
DTSTART;TZID=America/Chicago:20260321T180000
DTEND;TZID=America/Chicago:20260321T193000
DTSTAMP:20260422T063414
CREATED:20260128T201923Z
LAST-MODIFIED:20260128T201923Z
UID:10010542-1774116000-1774121400@bjf.org
SUMMARY:Klezmer Havdalah w/the New Orleans Klezmer All Stars!
DESCRIPTION:More info coming soon.
URL:https://bjf.org/event/klezmer-havdalah-w-the-new-orleans-klezmer-all-stars/
LOCATION:Temple Emanu-El\, 2100 Highland Ave\, Birmingham\, AL\, 35205\, United States
ORGANIZER;CN="Temple Emanu-El":MAILTO:communications@ourtemple.org
GEO:33.5002558;-86.7936032
X-APPLE-STRUCTURED-LOCATION;VALUE=URI;X-ADDRESS=Temple Emanu-El 2100 Highland Ave Birmingham AL 35205 United States;X-APPLE-RADIUS=500;X-TITLE=2100 Highland Ave:geo:-86.7936032,33.5002558
END:VEVENT
BEGIN:VEVENT
DTSTART;TZID=America/Chicago:20260322T100000
DTEND;TZID=America/Chicago:20260322T113000
DTSTAMP:20260422T063414
CREATED:20251105T143252Z
LAST-MODIFIED:20260109T141512Z
UID:10010360-1774173600-1774179000@bjf.org
SUMMARY:Birmingham Hadassah Book Club
DESCRIPTION:Join your Birmingham Hadassah Zoom book club as we delve into the intricacies of one special book a month. This month’s book: We Should All Be Birds by Brian Buckbee. For more book  information and the zoom link contact Sherrie Grunfeld 205-249-7154.
URL:https://bjf.org/event/birmingham-hadassah-book-club-3/
LOCATION:Zoom
CATEGORIES:Education
ATTACH;FMTTYPE=image/jpeg:https://bjf.org/wp-content/uploads/2025/11/IMG_0205.jpeg
ORGANIZER;CN="Birmingham Chapter of Hadassah":MAILTO:slaughter.idl@gmail.com
END:VEVENT
BEGIN:VEVENT
DTSTART;TZID=America/Chicago:20260322T190000
DTEND;TZID=America/Chicago:20260322T200000
DTSTAMP:20260422T063414
CREATED:20260303T150113Z
LAST-MODIFIED:20260303T150113Z
UID:10011890-1774206000-1774209600@bjf.org
SUMMARY:BJF Program
DESCRIPTION:BJF Program
URL:https://bjf.org/event/bjf-program/
LOCATION:Birmingham Jewish Federation\, 3966 Montclair Rd\, Birmingham\, AL\, 35213\, United States
ORGANIZER;CN="Birmingham Jewish Federation":MAILTO:federation@bjf.org
GEO:33.5221355;-86.7882994
X-APPLE-STRUCTURED-LOCATION;VALUE=URI;X-ADDRESS=Birmingham Jewish Federation 3966 Montclair Rd Birmingham AL 35213 United States;X-APPLE-RADIUS=500;X-TITLE=3966 Montclair Rd:geo:-86.7882994,33.5221355
END:VEVENT
BEGIN:VEVENT
DTSTART;TZID=America/Chicago:20260323T100000
DTEND;TZID=America/Chicago:20260323T140000
DTSTAMP:20260422T063414
CREATED:20260210T170309Z
LAST-MODIFIED:20260210T170309Z
UID:10010597-1774260000-1774274400@bjf.org
SUMMARY:CJFS CARES Respite Program
DESCRIPTION:Providing group respite care for people living with memory and/or movement disorders while giving caregivers a much-needed break. Click here for more information. \n 
URL:https://bjf.org/event/cjfs-cares-respite-program/2026-03-23/
LOCATION:CARES Building\, 3794 Crosshaven Drive\, Birmingham\, AL\, 35243\, United States
ATTACH;FMTTYPE=image/jpeg:https://bjf.org/wp-content/uploads/2026/02/CARES-Flyer-Nov-2025-FINAL.jpg
ORGANIZER;CN="Collat Jewish Family Services":MAILTO:jfs@cjfsbham.org
GEO:33.4672906;-86.7315423
X-APPLE-STRUCTURED-LOCATION;VALUE=URI;X-ADDRESS=CARES Building 3794 Crosshaven Drive Birmingham AL 35243 United States;X-APPLE-RADIUS=500;X-TITLE=3794 Crosshaven Drive:geo:-86.7315423,33.4672906
END:VEVENT
BEGIN:VEVENT
DTSTART;TZID=America/Chicago:20260323T150000
DTEND;TZID=America/Chicago:20260323T160000
DTSTAMP:20260422T063414
CREATED:20260210T170215Z
LAST-MODIFIED:20260210T170215Z
UID:10011623-1774278000-1774281600@bjf.org
SUMMARY:CJFS Caregiver Support Group
DESCRIPTION:Held virtually to accommodate your demanding role\, our groups create community and provide emotional support while offering guidance and strategies to cope with stress\, manage difficult behaviors\, and prioritize self-care. Click here for more information.
URL:https://bjf.org/event/cjfs-caregiver-support-group/2026-03-23/
LOCATION:virtual
ATTACH;FMTTYPE=image/jpeg:https://bjf.org/wp-content/uploads/2026/02/Dementia-Caregiver-Support-Group-with-QR-code-1.jpg
ORGANIZER;CN="Collat Jewish Family Services":MAILTO:jfs@cjfsbham.org
END:VEVENT
BEGIN:VEVENT
DTSTART;TZID=America/Chicago:20260324T100000
DTEND;TZID=America/Chicago:20260324T140000
DTSTAMP:20260422T063414
CREATED:20260210T170309Z
LAST-MODIFIED:20260210T170309Z
UID:10010598-1774346400-1774360800@bjf.org
SUMMARY:CJFS CARES Respite Program
DESCRIPTION:Providing group respite care for people living with memory and/or movement disorders while giving caregivers a much-needed break. Click here for more information. \n 
URL:https://bjf.org/event/cjfs-cares-respite-program/2026-03-24/
LOCATION:CARES Building\, 3794 Crosshaven Drive\, Birmingham\, AL\, 35243\, United States
ATTACH;FMTTYPE=image/jpeg:https://bjf.org/wp-content/uploads/2026/02/CARES-Flyer-Nov-2025-FINAL.jpg
ORGANIZER;CN="Collat Jewish Family Services":MAILTO:jfs@cjfsbham.org
GEO:33.4672906;-86.7315423
X-APPLE-STRUCTURED-LOCATION;VALUE=URI;X-ADDRESS=CARES Building 3794 Crosshaven Drive Birmingham AL 35243 United States;X-APPLE-RADIUS=500;X-TITLE=3794 Crosshaven Drive:geo:-86.7315423,33.4672906
END:VEVENT
BEGIN:VEVENT
DTSTART;TZID=America/Chicago:20260325T100000
DTEND;TZID=America/Chicago:20260325T140000
DTSTAMP:20260422T063414
CREATED:20260210T170309Z
LAST-MODIFIED:20260210T170309Z
UID:10010599-1774432800-1774447200@bjf.org
SUMMARY:CJFS CARES Respite Program
DESCRIPTION:Providing group respite care for people living with memory and/or movement disorders while giving caregivers a much-needed break. Click here for more information. \n 
URL:https://bjf.org/event/cjfs-cares-respite-program/2026-03-25/
LOCATION:CARES Building\, 3794 Crosshaven Drive\, Birmingham\, AL\, 35243\, United States
ATTACH;FMTTYPE=image/jpeg:https://bjf.org/wp-content/uploads/2026/02/CARES-Flyer-Nov-2025-FINAL.jpg
ORGANIZER;CN="Collat Jewish Family Services":MAILTO:jfs@cjfsbham.org
GEO:33.4672906;-86.7315423
X-APPLE-STRUCTURED-LOCATION;VALUE=URI;X-ADDRESS=CARES Building 3794 Crosshaven Drive Birmingham AL 35243 United States;X-APPLE-RADIUS=500;X-TITLE=3794 Crosshaven Drive:geo:-86.7315423,33.4672906
END:VEVENT
BEGIN:VEVENT
DTSTART;TZID=America/Chicago:20260326T100000
DTEND;TZID=America/Chicago:20260326T140000
DTSTAMP:20260422T063414
CREATED:20260210T170309Z
LAST-MODIFIED:20260210T170309Z
UID:10010600-1774519200-1774533600@bjf.org
SUMMARY:CJFS CARES Respite Program
DESCRIPTION:Providing group respite care for people living with memory and/or movement disorders while giving caregivers a much-needed break. Click here for more information. \n 
URL:https://bjf.org/event/cjfs-cares-respite-program/2026-03-26/
LOCATION:CARES Building\, 3794 Crosshaven Drive\, Birmingham\, AL\, 35243\, United States
ATTACH;FMTTYPE=image/jpeg:https://bjf.org/wp-content/uploads/2026/02/CARES-Flyer-Nov-2025-FINAL.jpg
ORGANIZER;CN="Collat Jewish Family Services":MAILTO:jfs@cjfsbham.org
GEO:33.4672906;-86.7315423
X-APPLE-STRUCTURED-LOCATION;VALUE=URI;X-ADDRESS=CARES Building 3794 Crosshaven Drive Birmingham AL 35243 United States;X-APPLE-RADIUS=500;X-TITLE=3794 Crosshaven Drive:geo:-86.7315423,33.4672906
END:VEVENT
BEGIN:VEVENT
DTSTART;TZID=America/Chicago:20260326T173000
DTEND;TZID=America/Chicago:20260326T193000
DTSTAMP:20260422T063414
CREATED:20250508T154429Z
LAST-MODIFIED:20250508T154429Z
UID:10009762-1774546200-1774553400@bjf.org
SUMMARY:Building a Jewish Home Meeting
DESCRIPTION:
URL:https://bjf.org/event/building-a-jewish-home-meeting-13/
LOCATION:Levite Jewish Community Center\, 3960 Monteclair Road\, Birmingham\, Alabama\, 35213\, United States
ORGANIZER;CN="Levite Jewish Community Center":MAILTO:membership@bhamjcc.org
GEO:33.511298;-86.7546009
X-APPLE-STRUCTURED-LOCATION;VALUE=URI;X-ADDRESS=Levite Jewish Community Center 3960 Monteclair Road Birmingham Alabama 35213 United States;X-APPLE-RADIUS=500;X-TITLE=3960 Monteclair Road:geo:-86.7546009,33.511298
END:VEVENT
BEGIN:VEVENT
DTSTART;TZID=America/Chicago:20260328T100000
DTEND;TZID=America/Chicago:20260328T120000
DTSTAMP:20260422T063414
CREATED:20240506T194257Z
LAST-MODIFIED:20260317T192948Z
UID:10009203-1774692000-1774699200@bjf.org
SUMMARY:Shabbat Hike –  TEE
DESCRIPTION:Join Rabbi Wright &/or Cantor Wittner for a light hike and Shabbat service at  Birmingham Botanical Gardens
URL:https://bjf.org/event/shabbat-hike/2026-03-28/
LOCATION:Birmingham Botanical Gardens\, 2612 Lane Park Rd\, Birmingham\, AL\, 35223\, United States
ORGANIZER;CN="Temple Emanu-El":MAILTO:communications@ourtemple.org
GEO:33.4909181;-86.7760218
X-APPLE-STRUCTURED-LOCATION;VALUE=URI;X-ADDRESS=Birmingham Botanical Gardens 2612 Lane Park Rd Birmingham AL 35223 United States;X-APPLE-RADIUS=500;X-TITLE=2612 Lane Park Rd:geo:-86.7760218,33.4909181
END:VEVENT
BEGIN:VEVENT
DTSTART;TZID=America/Chicago:20260329T130000
DTEND;TZID=America/Chicago:20260329T170000
DTSTAMP:20260422T063414
CREATED:20251215T152540Z
LAST-MODIFIED:20260204T165351Z
UID:10010485-1774789200-1774803600@bjf.org
SUMMARY:Mitzvah Market
DESCRIPTION:More information to come!
URL:https://bjf.org/event/mitzvah-market/
LOCATION:Levite Jewish Community Center\, 3960 Monteclair Road\, Birmingham\, Alabama\, 35213\, United States
CATEGORIES:Events and Meetings
ORGANIZER;CN="Levite Jewish Community Center":MAILTO:membership@bhamjcc.org
GEO:33.511298;-86.7546009
X-APPLE-STRUCTURED-LOCATION;VALUE=URI;X-ADDRESS=Levite Jewish Community Center 3960 Monteclair Road Birmingham Alabama 35213 United States;X-APPLE-RADIUS=500;X-TITLE=3960 Monteclair Road:geo:-86.7546009,33.511298
END:VEVENT
END:VCALENDAR