BEGIN:VCALENDAR
VERSION:2.0
PRODID:-//The Birmingham Jewish Federation - ECPv6.15.20//NONSGML v1.0//EN
CALSCALE:GREGORIAN
METHOD:PUBLISH
X-WR-CALNAME:The Birmingham Jewish Federation
X-ORIGINAL-URL:https://bjf.org
X-WR-CALDESC:Events for The Birmingham Jewish Federation
REFRESH-INTERVAL;VALUE=DURATION:PT1H
X-Robots-Tag:noindex
X-PUBLISHED-TTL:PT1H
BEGIN:VTIMEZONE
TZID:America/Chicago
BEGIN:DAYLIGHT
TZOFFSETFROM:-0600
TZOFFSETTO:-0500
TZNAME:CDT
DTSTART:20250309T080000
END:DAYLIGHT
BEGIN:STANDARD
TZOFFSETFROM:-0500
TZOFFSETTO:-0600
TZNAME:CST
DTSTART:20251102T070000
END:STANDARD
BEGIN:DAYLIGHT
TZOFFSETFROM:-0600
TZOFFSETTO:-0500
TZNAME:CDT
DTSTART:20260308T080000
END:DAYLIGHT
BEGIN:STANDARD
TZOFFSETFROM:-0500
TZOFFSETTO:-0600
TZNAME:CST
DTSTART:20261101T070000
END:STANDARD
BEGIN:DAYLIGHT
TZOFFSETFROM:-0600
TZOFFSETTO:-0500
TZNAME:CDT
DTSTART:20270314T080000
END:DAYLIGHT
BEGIN:STANDARD
TZOFFSETFROM:-0500
TZOFFSETTO:-0600
TZNAME:CST
DTSTART:20271107T070000
END:STANDARD
END:VTIMEZONE
BEGIN:VEVENT
DTSTART;TZID=America/Chicago:20260420T100000
DTEND;TZID=America/Chicago:20260420T140000
DTSTAMP:20260420T045727
CREATED:20260210T170309Z
LAST-MODIFIED:20260210T170309Z
UID:10010613-1776679200-1776693600@bjf.org
SUMMARY:CJFS CARES Respite Program
DESCRIPTION:Providing group respite care for people living with memory and/or movement disorders while giving caregivers a much-needed break. Click here for more information. \n 
URL:https://bjf.org/event/cjfs-cares-respite-program/2026-04-20/
LOCATION:CARES Building\, 3794 Crosshaven Drive\, Birmingham\, AL\, 35243\, United States
ATTACH;FMTTYPE=image/jpeg:https://bjf.org/wp-content/uploads/2026/02/CARES-Flyer-Nov-2025-FINAL.jpg
ORGANIZER;CN="Collat Jewish Family Services":MAILTO:jfs@cjfsbham.org
GEO:33.4672906;-86.7315423
X-APPLE-STRUCTURED-LOCATION;VALUE=URI;X-ADDRESS=CARES Building 3794 Crosshaven Drive Birmingham AL 35243 United States;X-APPLE-RADIUS=500;X-TITLE=3794 Crosshaven Drive:geo:-86.7315423,33.4672906
END:VEVENT
BEGIN:VEVENT
DTSTART;TZID=America/Chicago:20260420T150000
DTEND;TZID=America/Chicago:20260420T160000
DTSTAMP:20260420T045727
CREATED:20260210T170215Z
LAST-MODIFIED:20260210T170215Z
UID:10011627-1776697200-1776700800@bjf.org
SUMMARY:CJFS Caregiver Support Group
DESCRIPTION:Held virtually to accommodate your demanding role\, our groups create community and provide emotional support while offering guidance and strategies to cope with stress\, manage difficult behaviors\, and prioritize self-care. Click here for more information.
URL:https://bjf.org/event/cjfs-caregiver-support-group/2026-04-20/
LOCATION:virtual
ATTACH;FMTTYPE=image/jpeg:https://bjf.org/wp-content/uploads/2026/02/Dementia-Caregiver-Support-Group-with-QR-code-1.jpg
ORGANIZER;CN="Collat Jewish Family Services":MAILTO:jfs@cjfsbham.org
END:VEVENT
BEGIN:VEVENT
DTSTART;TZID=America/Chicago:20260420T180000
DTEND;TZID=America/Chicago:20260420T193000
DTSTAMP:20260420T045727
CREATED:20250630T180713Z
LAST-MODIFIED:20250630T180713Z
UID:10009952-1776708000-1776713400@bjf.org
SUMMARY:Yom HaZikaron Memorial Ceremony
DESCRIPTION:Yom HaZikaron Memorial Ceremony
URL:https://bjf.org/event/yom-hazikaron-memorial-ceremony/
LOCATION:AL
ORGANIZER;CN="Birmingham Jewish Federation":MAILTO:federation@bjf.org
END:VEVENT
END:VCALENDAR