BEGIN:VCALENDAR
VERSION:2.0
PRODID:-//The Birmingham Jewish Federation - ECPv6.15.20//NONSGML v1.0//EN
CALSCALE:GREGORIAN
METHOD:PUBLISH
X-ORIGINAL-URL:https://bjf.org
X-WR-CALDESC:Events for The Birmingham Jewish Federation
REFRESH-INTERVAL;VALUE=DURATION:PT1H
X-Robots-Tag:noindex
X-PUBLISHED-TTL:PT1H
BEGIN:VTIMEZONE
TZID:America/Chicago
BEGIN:DAYLIGHT
TZOFFSETFROM:-0600
TZOFFSETTO:-0500
TZNAME:CDT
DTSTART:20250309T080000
END:DAYLIGHT
BEGIN:STANDARD
TZOFFSETFROM:-0500
TZOFFSETTO:-0600
TZNAME:CST
DTSTART:20251102T070000
END:STANDARD
BEGIN:DAYLIGHT
TZOFFSETFROM:-0600
TZOFFSETTO:-0500
TZNAME:CDT
DTSTART:20260308T080000
END:DAYLIGHT
BEGIN:STANDARD
TZOFFSETFROM:-0500
TZOFFSETTO:-0600
TZNAME:CST
DTSTART:20261101T070000
END:STANDARD
BEGIN:DAYLIGHT
TZOFFSETFROM:-0600
TZOFFSETTO:-0500
TZNAME:CDT
DTSTART:20270314T080000
END:DAYLIGHT
BEGIN:STANDARD
TZOFFSETFROM:-0500
TZOFFSETTO:-0600
TZNAME:CST
DTSTART:20271107T070000
END:STANDARD
END:VTIMEZONE
BEGIN:VEVENT
DTSTART;TZID=America/Chicago:20260313T100000
DTEND;TZID=America/Chicago:20260313T110000
DTSTAMP:20260420T050900
CREATED:20251209T194150Z
LAST-MODIFIED:20260202T185845Z
UID:10010401-1773396000-1773399600@bjf.org
SUMMARY:CJFS Senior Grocery Initiative (SGI) community service: unload and pack groceries
DESCRIPTION:If you are looking for community service that is quick and efficient\, then you’ve come to the right place!  Join CJFS volunteers to *unload and pack groceries for Sunday SGI delivery day.  Please contact Caleigh@cjfsbham.org or 205-278-7101 to join the SGI signup genius email list. \nCorporations and groups welcome.  Typical volunteer need: 10-12 individuals.  Youth 6+ welcome. \n*Do you have a truck or large vehicle and want to help transport grocery boxes from Community Foodbank of Central Alabama (Homewood) to our CARES site (Cahaba Heights)?  Please let Caleigh know! Todah rabah
URL:https://bjf.org/event/cjfs-senior-grocery-initiative-sgi-community-service-unload-and-pack-groceries-2/2026-03-13/
LOCATION:CJFS Cares
ATTACH;FMTTYPE=image/jpeg:https://bjf.org/wp-content/uploads/2025/12/SGI-2026-Schedule-for-Friday-Packing-as-of-2.2.26.jpg
ORGANIZER;CN="Collat Jewish Family Services":MAILTO:jfs@cjfsbham.org
END:VEVENT
BEGIN:VEVENT
DTSTART;TZID=America/Chicago:20260313T170000
DTEND;TZID=America/Chicago:20260313T173000
DTSTAMP:20260420T050900
CREATED:20240515T184840Z
LAST-MODIFIED:20260128T201058Z
UID:10009211-1773421200-1773423000@bjf.org
SUMMARY:Tot Shabbat & Pizza Party! – TEE
DESCRIPTION:Join us for a fun Shabbat service with Cantor Wittner and Elizabeth Bloch followed by a yummy pizza dinner and play time in our play room! RSVP for dinner to kathryn@ourtemple.org.
URL:https://bjf.org/event/tot-shabbat-tee/2026-03-13/
LOCATION:Temple Emanu-El\, 2100 Highland Ave\, Birmingham\, AL\, 35205\, United States
CATEGORIES:Holidays
ORGANIZER;CN="Temple Emanu-El":MAILTO:communications@ourtemple.org
GEO:33.5002558;-86.7936032
X-APPLE-STRUCTURED-LOCATION;VALUE=URI;X-ADDRESS=Temple Emanu-El 2100 Highland Ave Birmingham AL 35205 United States;X-APPLE-RADIUS=500;X-TITLE=2100 Highland Ave:geo:-86.7936032,33.5002558
END:VEVENT
BEGIN:VEVENT
DTSTART;TZID=America/Chicago:20260313T171500
DTEND;TZID=America/Chicago:20260313T200000
DTSTAMP:20260420T050900
CREATED:20250707T142450Z
LAST-MODIFIED:20250707T142450Z
UID:10010041-1773422100-1773432000@bjf.org
SUMMARY:Musical Kabbalat Shabbat + Dinner
DESCRIPTION:Musical Kabbalat Shabbat + Dinner
URL:https://bjf.org/event/musical-kabbalat-shabbat-dinner/
LOCATION:Temple Beth-El\, 2179 Highland Avenue\, Birmingham\, AL\, 35205\, United States
ORGANIZER;CN="Temple Beth-El":MAILTO:sbutler@templebeth-el.net
GEO:33.4997719;-86.7903719
X-APPLE-STRUCTURED-LOCATION;VALUE=URI;X-ADDRESS=Temple Beth-El 2179 Highland Avenue Birmingham AL 35205 United States;X-APPLE-RADIUS=500;X-TITLE=2179 Highland Avenue:geo:-86.7903719,33.4997719
END:VEVENT
END:VCALENDAR