BEGIN:VCALENDAR
VERSION:2.0
PRODID:-//The Birmingham Jewish Federation - ECPv6.15.20//NONSGML v1.0//EN
CALSCALE:GREGORIAN
METHOD:PUBLISH
X-ORIGINAL-URL:https://bjf.org
X-WR-CALDESC:Events for The Birmingham Jewish Federation
REFRESH-INTERVAL;VALUE=DURATION:PT1H
X-Robots-Tag:noindex
X-PUBLISHED-TTL:PT1H
BEGIN:VTIMEZONE
TZID:America/Chicago
BEGIN:DAYLIGHT
TZOFFSETFROM:-0600
TZOFFSETTO:-0500
TZNAME:CDT
DTSTART:20240310T080000
END:DAYLIGHT
BEGIN:STANDARD
TZOFFSETFROM:-0500
TZOFFSETTO:-0600
TZNAME:CST
DTSTART:20241103T070000
END:STANDARD
BEGIN:DAYLIGHT
TZOFFSETFROM:-0600
TZOFFSETTO:-0500
TZNAME:CDT
DTSTART:20250309T080000
END:DAYLIGHT
BEGIN:STANDARD
TZOFFSETFROM:-0500
TZOFFSETTO:-0600
TZNAME:CST
DTSTART:20251102T070000
END:STANDARD
BEGIN:DAYLIGHT
TZOFFSETFROM:-0600
TZOFFSETTO:-0500
TZNAME:CDT
DTSTART:20260308T080000
END:DAYLIGHT
BEGIN:STANDARD
TZOFFSETFROM:-0500
TZOFFSETTO:-0600
TZNAME:CST
DTSTART:20261101T070000
END:STANDARD
END:VTIMEZONE
BEGIN:VEVENT
DTSTART;VALUE=DATE:20251215
DTEND;VALUE=DATE:20251223
DTSTAMP:20260422T093509
CREATED:20230322T185953Z
LAST-MODIFIED:20230322T185953Z
UID:10003330-1765756800-1766447999@bjf.org
SUMMARY:Hanukkah
DESCRIPTION:Hanukkah is Observed.
URL:https://bjf.org/event/hanukkah-3/
LOCATION:AL
ORGANIZER;CN="Birmingham Jewish Federation":MAILTO:federation@bjf.org
END:VEVENT
BEGIN:VEVENT
DTSTART;TZID=America/Chicago:20251216T120000
DTEND;TZID=America/Chicago:20251216T133000
DTSTAMP:20260422T093509
CREATED:20251216T181920Z
LAST-MODIFIED:20251216T181920Z
UID:10010487-1765886400-1765891800@bjf.org
SUMMARY:Chabad-CJFS Chai Connections
DESCRIPTION:Monthly luncheon for Jewish adults (65+) and volunteers \nJoin us for food\, friendship and community! \nTheme and menu TBD \nSuggested donation $5 \nRSVP frumieposner@gmail.com or 205-276-1307
URL:https://bjf.org/event/chabad-cjfs-chai-connections-2/2025-12-16/
LOCATION:Chabad of Alabama\, 3040 Overton Road\, Birmingham\, AL\, 35223\, United States
ORGANIZER;CN="Chabad of Alabama":MAILTO:office@chabadofalabama.com
GEO:33.4684369;-86.7395922
X-APPLE-STRUCTURED-LOCATION;VALUE=URI;X-ADDRESS=Chabad of Alabama 3040 Overton Road Birmingham AL 35223 United States;X-APPLE-RADIUS=500;X-TITLE=3040 Overton Road:geo:-86.7395922,33.4684369
END:VEVENT
BEGIN:VEVENT
DTSTART;TZID=America/Chicago:20251216T173000
DTEND;TZID=America/Chicago:20251216T190000
DTSTAMP:20260422T093509
CREATED:20240111T193704Z
LAST-MODIFIED:20260211T172940Z
UID:10009219-1765906200-1765911600@bjf.org
SUMMARY:Temple Emanu-El Board Meeting
DESCRIPTION:Temple Emanu-El Board Meeting
URL:https://bjf.org/event/temple-emanu-el-board-meeting-2/2025-12-16/
LOCATION:Temple Emanu-El\, 2100 Highland Ave\, Birmingham\, AL\, 35205\, United States
ORGANIZER;CN="Temple Emanu-El":MAILTO:communications@ourtemple.org
GEO:33.5002558;-86.7936032
X-APPLE-STRUCTURED-LOCATION;VALUE=URI;X-ADDRESS=Temple Emanu-El 2100 Highland Ave Birmingham AL 35205 United States;X-APPLE-RADIUS=500;X-TITLE=2100 Highland Ave:geo:-86.7936032,33.5002558
END:VEVENT
END:VCALENDAR